BEGIN:VCALENDAR
VERSION:2.0
PRODID:-//ChamberMaster//Event Calendar 2.0//EN
METHOD:PUBLISH
X-PUBLISHED-TTL:P3D
REFRESH-INTERVAL:P3D
CALSCALE:GREGORIAN
BEGIN:VEVENT
DTSTART:20260503T140000Z
DTEND:20260503T190000Z
X-MICROSOFT-CDO-ALLDAYEVENT:FALSE
SUMMARY:Great American Horse Drive
DESCRIPTION:Get ready for a true taste of the West as ranch horses move right through the middle of Maybell during the Sombrero Ranches' Great American Horse Drive.\n\n \n\nThe herd may come through town anytime between 8:00 AM and 1:00 PM\, so plan to arrive early. After the drive\, stick around for a fun afternoon in Maybell with good food\, great company\, and the opportunity to visit the Sand Wash Basin to see the wild horses.\n\n \n\nIf you're coming out to watch the drive\, please make sure to get to the Maybell park early and stay safely out of the way of the horses\, wranglers\, and the cowboys and cowgirls as they guide the herd toward the Craig ranch to get ready for the riding season. Click the link to sign up!
X-ALT-DESC;FMTTYPE=text/html:<p style="margin: 0px\; padding: 0px\;"><span style="font-size:14px\;"><span style="color: rgb(0\, 0\, 0)\; font-family: &quot\;Libre Baskerville&quot\;\, serif\;">Get ready for a true taste of the West as ranch horses move right through the middle of Maybell during the Sombrero Ranches&rsquo\; Great American Horse Drive.</span></span></p>\n\n<p style="margin: 0px\; padding: 0px\;">&nbsp\;</p>\n\n<p style="margin: 0px\; padding: 0px\;"><span style="font-size:14px\;"><span style="color: rgb(0\, 0\, 0)\; font-family: &quot\;Libre Baskerville&quot\;\, serif\;">The herd may come through town anytime between </span><span style="color: rgb(0\, 0\, 0)\; font-family: &quot\;Libre Baskerville&quot\;\, serif\; font-style: italic\;">8:00 AM and 1:00 PM\,</span><span style="color: rgb(0\, 0\, 0)\; font-family: &quot\;Libre Baskerville&quot\;\, serif\;"> so plan to arrive early. After the drive\, stick around for a fun afternoon in Maybell with good food\, great company\, and the opportunity to visit the Sand Wash Basin to see the wild horses.</span></span></p>\n\n<p style="margin: 0px\; padding: 0px\;">&nbsp\;</p>\n\n<p style="margin: 0px\; padding: 0px\;"><span style="font-size:14px\;"><span style="color: rgb(0\, 0\, 0)\; font-family: &quot\;Libre Baskerville&quot\;\, serif\;">If you&rsquo\;re coming out to watch the drive\, please make sure to get to the Maybell park early and stay safely out of the way of the horses\, wranglers\, and the cowboys and cowgirls as they guide the herd toward the Craig ranch to get ready for the riding season. </span><span style="color: rgb(0\, 0\, 0)\; font-family: &quot\;Libre Baskerville&quot\;\, serif\; font-style: italic\;">Click the link to sign up!</span></span></p>\n\n<p style="margin: 0px\; padding: 0px\;">&nbsp\;</p>\n
LOCATION:Downtown Maybell\, CO
UID:e.161.68378
SEQUENCE:3
DTSTAMP:20260422T205426Z
URL:https://business.craig-chamber.com/events/details/great-american-horse-drive-68378
END:VEVENT

END:VCALENDAR
